BEGIN:VCALENDAR
VERSION:2.0
PRODID:-//Walla Walla Parish, NSW - ECPv6.8.1//NONSGML v1.0//EN
CALSCALE:GREGORIAN
METHOD:PUBLISH
X-WR-CALNAME:Walla Walla Parish, NSW
X-ORIGINAL-URL:https://wallawalla-parish.lutheran.org.au
X-WR-CALDESC:Events for Walla Walla Parish, NSW
REFRESH-INTERVAL;VALUE=DURATION:PT1H
X-Robots-Tag:noindex
X-PUBLISHED-TTL:PT1H
BEGIN:VTIMEZONE
TZID:Australia/Sydney
BEGIN:STANDARD
TZOFFSETFROM:+1100
TZOFFSETTO:+1000
TZNAME:AEST
DTSTART:20250405T160000
END:STANDARD
BEGIN:DAYLIGHT
TZOFFSETFROM:+1000
TZOFFSETTO:+1100
TZNAME:AEDT
DTSTART:20251004T160000
END:DAYLIGHT
END:VTIMEZONE
BEGIN:VEVENT
DTSTART;TZID=Australia/Sydney:20251225T100000
DTEND;TZID=Australia/Sydney:20251225T110000
DTSTAMP:20260424T082700
CREATED:20251222T101204Z
LAST-MODIFIED:20251222T101933Z
UID:9564-1766656800-1766660400@wallawalla-parish.lutheran.org.au
SUMMARY:Christmas Day Worship 2025
DESCRIPTION:
URL:https://wallawalla-parish.lutheran.org.au/event/christmas-day-worship/
LOCATION:Zion\, Walla Walla\, 17 Commercial St\, Walla Walla\, New South Wales\, 2659\, Australia
GEO:-35.7571072;146.9014514
X-APPLE-STRUCTURED-LOCATION;VALUE=URI;X-ADDRESS=Zion Walla Walla 17 Commercial St Walla Walla New South Wales 2659 Australia;X-APPLE-RADIUS=500;X-TITLE=17 Commercial St:geo:146.9014514,-35.7571072
END:VEVENT
BEGIN:VEVENT
DTSTART;TZID=Australia/Sydney:20251224T193000
DTEND;TZID=Australia/Sydney:20251224T203000
DTSTAMP:20260424T082700
CREATED:20251222T101017Z
LAST-MODIFIED:20251222T101805Z
UID:9562-1766604600-1766608200@wallawalla-parish.lutheran.org.au
SUMMARY:Christmas Eve Worship 2025
DESCRIPTION:
URL:https://wallawalla-parish.lutheran.org.au/event/christmas-eve-2025/
LOCATION:Zion\, Walla Walla\, 17 Commercial St\, Walla Walla\, New South Wales\, 2659\, Australia
GEO:-35.7571072;146.9014514
X-APPLE-STRUCTURED-LOCATION;VALUE=URI;X-ADDRESS=Zion Walla Walla 17 Commercial St Walla Walla New South Wales 2659 Australia;X-APPLE-RADIUS=500;X-TITLE=17 Commercial St:geo:146.9014514,-35.7571072
END:VEVENT
END:VCALENDAR